BEGIN:VCALENDAR
VERSION:2.0
PRODID:-//NUN Ostseebad Nienhagen - ECPv6.15.17//NONSGML v1.0//EN
CALSCALE:GREGORIAN
METHOD:PUBLISH
X-WR-CALNAME:NUN Ostseebad Nienhagen
X-ORIGINAL-URL:https://nun-ostseebad-nienhagen.de
X-WR-CALDESC:Veranstaltungen für NUN Ostseebad Nienhagen
REFRESH-INTERVAL;VALUE=DURATION:PT1H
X-Robots-Tag:noindex
X-PUBLISHED-TTL:PT1H
BEGIN:VTIMEZONE
TZID:Europe/Berlin
BEGIN:DAYLIGHT
TZOFFSETFROM:+0100
TZOFFSETTO:+0200
TZNAME:CEST
DTSTART:20250330T010000
END:DAYLIGHT
BEGIN:STANDARD
TZOFFSETFROM:+0200
TZOFFSETTO:+0100
TZNAME:CET
DTSTART:20251026T010000
END:STANDARD
BEGIN:DAYLIGHT
TZOFFSETFROM:+0100
TZOFFSETTO:+0200
TZNAME:CEST
DTSTART:20260329T010000
END:DAYLIGHT
BEGIN:STANDARD
TZOFFSETFROM:+0200
TZOFFSETTO:+0100
TZNAME:CET
DTSTART:20261025T010000
END:STANDARD
BEGIN:DAYLIGHT
TZOFFSETFROM:+0100
TZOFFSETTO:+0200
TZNAME:CEST
DTSTART:20270328T010000
END:DAYLIGHT
BEGIN:STANDARD
TZOFFSETFROM:+0200
TZOFFSETTO:+0100
TZNAME:CET
DTSTART:20271031T010000
END:STANDARD
END:VTIMEZONE
BEGIN:VEVENT
DTSTART;TZID=Europe/Berlin:20260509T000000
DTEND;TZID=Europe/Berlin:20260509T000000
DTSTAMP:20260420T022410
CREATED:20260206T165211Z
LAST-MODIFIED:20260206T171040Z
UID:3187-1778284800-1778284800@nun-ostseebad-nienhagen.de
SUMMARY:Blütenfest auf der Streuobstwiese
DESCRIPTION:  \n 
URL:https://nun-ostseebad-nienhagen.de/event/bluetenfest-auf-der-streuobstwiese/
LOCATION:wird noch bekannt gegeben
CATEGORIES:Feste
ATTACH;FMTTYPE=image/jpeg:https://nun-ostseebad-nienhagen.de/wp-content/uploads/2026/02/Apfelblueten_komprimiert.jpg
END:VEVENT
BEGIN:VEVENT
DTSTART;TZID=Europe/Berlin:20260521T183000
DTEND;TZID=Europe/Berlin:20260521T203000
DTSTAMP:20260420T022410
CREATED:20251128T112108Z
LAST-MODIFIED:20251128T112108Z
UID:3163-1779388200-1779395400@nun-ostseebad-nienhagen.de
SUMMARY:Öffentliche Mitgliederversammlung
DESCRIPTION:An jedem 3. Donnerstag im Monat findet unsere Mitgliederversammlung statt. Die Mitgliederversammlungen sind für interessierte Bürger und Gäste unseres Ostseebades offen.
URL:https://nun-ostseebad-nienhagen.de/event/oeffentliche-mitgliederversammlung-8/
LOCATION:Freizeitzentrum Nienhagen
CATEGORIES:Mitgliederversammlung
ATTACH;FMTTYPE=image/jpeg:https://nun-ostseebad-nienhagen.de/wp-content/uploads/2024/01/FZZ_Nienhagen.jpg
END:VEVENT
BEGIN:VEVENT
DTSTART;TZID=Europe/Berlin:20260528T160000
DTEND;TZID=Europe/Berlin:20260528T170000
DTSTAMP:20260420T022410
CREATED:20251128T112700Z
LAST-MODIFIED:20251128T112700Z
UID:3169-1779984000-1779987600@nun-ostseebad-nienhagen.de
SUMMARY:Führung auf der Streuobstwiese
DESCRIPTION:  \n 
URL:https://nun-ostseebad-nienhagen.de/event/fuehrung-auf-der-streuobstwiese-5/
LOCATION:Streuobstwiese Ostseebad Nienhagen\, Zufahrt zum Wohngebiet „An den Weiden“\, Bank an der Infotafel
CATEGORIES:Führungen
ATTACH;FMTTYPE=image/jpeg:https://nun-ostseebad-nienhagen.de/wp-content/uploads/2025/04/Treffpunkt.jpg
END:VEVENT
BEGIN:VEVENT
DTSTART;TZID=Europe/Berlin:20260604T083000
DTEND;TZID=Europe/Berlin:20260604T170000
DTSTAMP:20260420T022410
CREATED:20260303T185631Z
LAST-MODIFIED:20260303T185738Z
UID:3219-1780561800-1780592400@nun-ostseebad-nienhagen.de
SUMMARY:Busreise zur Park & Garden Country Fair auf Gut Stockseehof
DESCRIPTION:  \n 
URL:https://nun-ostseebad-nienhagen.de/event/busreise-zur-park-garden-country-fair-auf-gut-stockseehof/
LOCATION:Gut Stockseehof\, Stockseehof 2\, 24326 Stocksee
CATEGORIES:Wanderungen & Exkursionen
ATTACH;FMTTYPE=image/jpeg:https://nun-ostseebad-nienhagen.de/wp-content/uploads/2026/03/Pixabay_800x450.jpg
END:VEVENT
BEGIN:VEVENT
DTSTART;TZID=Europe/Berlin:20260618T183000
DTEND;TZID=Europe/Berlin:20260618T203000
DTSTAMP:20260420T022410
CREATED:20251128T112137Z
LAST-MODIFIED:20251128T112137Z
UID:3165-1781807400-1781814600@nun-ostseebad-nienhagen.de
SUMMARY:Öffentliche Mitgliederversammlung
DESCRIPTION:An jedem 3. Donnerstag im Monat findet unsere Mitgliederversammlung statt. Die Mitgliederversammlungen sind für interessierte Bürger und Gäste unseres Ostseebades offen.
URL:https://nun-ostseebad-nienhagen.de/event/oeffentliche-mitgliederversammlung-9/
LOCATION:Freizeitzentrum Nienhagen
CATEGORIES:Mitgliederversammlung
ATTACH;FMTTYPE=image/jpeg:https://nun-ostseebad-nienhagen.de/wp-content/uploads/2024/01/FZZ_Nienhagen.jpg
END:VEVENT
BEGIN:VEVENT
DTSTART;TZID=Europe/Berlin:20260625T160000
DTEND;TZID=Europe/Berlin:20260625T170000
DTSTAMP:20260420T022410
CREATED:20251128T112741Z
LAST-MODIFIED:20251128T112741Z
UID:3171-1782403200-1782406800@nun-ostseebad-nienhagen.de
SUMMARY:Führung auf der Streuobstwiese
DESCRIPTION:  \n 
URL:https://nun-ostseebad-nienhagen.de/event/fuehrung-auf-der-streuobstwiese-6/
LOCATION:Streuobstwiese Ostseebad Nienhagen\, Zufahrt zum Wohngebiet „An den Weiden“\, Bank an der Infotafel
CATEGORIES:Führungen
ATTACH;FMTTYPE=image/jpeg:https://nun-ostseebad-nienhagen.de/wp-content/uploads/2025/04/Treffpunkt.jpg
END:VEVENT
BEGIN:VEVENT
DTSTART;TZID=Europe/Berlin:20260723T160000
DTEND;TZID=Europe/Berlin:20260723T170000
DTSTAMP:20260420T022410
CREATED:20251128T112816Z
LAST-MODIFIED:20251128T112816Z
UID:3173-1784822400-1784826000@nun-ostseebad-nienhagen.de
SUMMARY:Führung auf der Streuobstwiese
DESCRIPTION:  \n 
URL:https://nun-ostseebad-nienhagen.de/event/fuehrung-auf-der-streuobstwiese-7/
LOCATION:Streuobstwiese Ostseebad Nienhagen\, Zufahrt zum Wohngebiet „An den Weiden“\, Bank an der Infotafel
CATEGORIES:Führungen
ATTACH;FMTTYPE=image/jpeg:https://nun-ostseebad-nienhagen.de/wp-content/uploads/2025/04/Treffpunkt.jpg
END:VEVENT
BEGIN:VEVENT
DTSTART;TZID=Europe/Berlin:20260827T160000
DTEND;TZID=Europe/Berlin:20260827T170000
DTSTAMP:20260420T022410
CREATED:20251128T112842Z
LAST-MODIFIED:20251128T112842Z
UID:3175-1787846400-1787850000@nun-ostseebad-nienhagen.de
SUMMARY:Führung auf der Streuobstwiese
DESCRIPTION:  \n 
URL:https://nun-ostseebad-nienhagen.de/event/fuehrung-auf-der-streuobstwiese-8/
LOCATION:Streuobstwiese Ostseebad Nienhagen\, Zufahrt zum Wohngebiet „An den Weiden“\, Bank an der Infotafel
CATEGORIES:Führungen
ATTACH;FMTTYPE=image/jpeg:https://nun-ostseebad-nienhagen.de/wp-content/uploads/2025/04/Treffpunkt.jpg
END:VEVENT
BEGIN:VEVENT
DTSTART;TZID=Europe/Berlin:20260913T110000
DTEND;TZID=Europe/Berlin:20260913T170000
DTSTAMP:20260420T022410
CREATED:20260206T164217Z
LAST-MODIFIED:20260206T165818Z
UID:3185-1789297200-1789318800@nun-ostseebad-nienhagen.de
SUMMARY:6. Nienhäger Apfelfest
DESCRIPTION:
URL:https://nun-ostseebad-nienhagen.de/event/6-nienhaeger-apfelfest/
LOCATION:Festwiese Ostseebad Nienhagen und Freizeitzentrum (hinter der KITA „Waldgeister“)
CATEGORIES:Feste
ATTACH;FMTTYPE=image/jpeg:https://nun-ostseebad-nienhagen.de/wp-content/uploads/2025/02/Apfelfest_2025_Apfelkiste-800x450-1.jpg
END:VEVENT
BEGIN:VEVENT
DTSTART;TZID=Europe/Berlin:20260924T160000
DTEND;TZID=Europe/Berlin:20260924T170000
DTSTAMP:20260420T022410
CREATED:20251128T112910Z
LAST-MODIFIED:20251128T112910Z
UID:3177-1790265600-1790269200@nun-ostseebad-nienhagen.de
SUMMARY:Führung auf der Streuobstwiese
DESCRIPTION:  \n 
URL:https://nun-ostseebad-nienhagen.de/event/fuehrung-auf-der-streuobstwiese-9/
LOCATION:Streuobstwiese Ostseebad Nienhagen\, Zufahrt zum Wohngebiet „An den Weiden“\, Bank an der Infotafel
CATEGORIES:Führungen
ATTACH;FMTTYPE=image/jpeg:https://nun-ostseebad-nienhagen.de/wp-content/uploads/2025/04/Treffpunkt.jpg
END:VEVENT
END:VCALENDAR