BEGIN:VCALENDAR
VERSION:2.0
PRODID:-//NUN Ostseebad Nienhagen - ECPv6.15.17//NONSGML v1.0//EN
CALSCALE:GREGORIAN
METHOD:PUBLISH
X-WR-CALNAME:NUN Ostseebad Nienhagen
X-ORIGINAL-URL:https://nun-ostseebad-nienhagen.de
X-WR-CALDESC:Veranstaltungen für NUN Ostseebad Nienhagen
REFRESH-INTERVAL;VALUE=DURATION:PT1H
X-Robots-Tag:noindex
X-PUBLISHED-TTL:PT1H
BEGIN:VTIMEZONE
TZID:Europe/Berlin
BEGIN:DAYLIGHT
TZOFFSETFROM:+0100
TZOFFSETTO:+0200
TZNAME:CEST
DTSTART:20240331T010000
END:DAYLIGHT
BEGIN:STANDARD
TZOFFSETFROM:+0200
TZOFFSETTO:+0100
TZNAME:CET
DTSTART:20241027T010000
END:STANDARD
BEGIN:DAYLIGHT
TZOFFSETFROM:+0100
TZOFFSETTO:+0200
TZNAME:CEST
DTSTART:20250330T010000
END:DAYLIGHT
BEGIN:STANDARD
TZOFFSETFROM:+0200
TZOFFSETTO:+0100
TZNAME:CET
DTSTART:20251026T010000
END:STANDARD
BEGIN:DAYLIGHT
TZOFFSETFROM:+0100
TZOFFSETTO:+0200
TZNAME:CEST
DTSTART:20260329T010000
END:DAYLIGHT
BEGIN:STANDARD
TZOFFSETFROM:+0200
TZOFFSETTO:+0100
TZNAME:CET
DTSTART:20261025T010000
END:STANDARD
END:VTIMEZONE
BEGIN:VEVENT
DTSTART;TZID=Europe/Berlin:20250914T100000
DTEND;TZID=Europe/Berlin:20250914T170000
DTSTAMP:20260425T015310
CREATED:20250224T171739Z
LAST-MODIFIED:20250428T193008Z
UID:3075-1757844000-1757869200@nun-ostseebad-nienhagen.de
SUMMARY:5. Nienhäger Apfelfest
DESCRIPTION:
URL:https://nun-ostseebad-nienhagen.de/event/5-nienhaeger-apfelfest/
LOCATION:Festwiese Ostseebad Nienhagen und Freizeitzentrum (hinter der KITA „Waldgeister“)
ATTACH;FMTTYPE=image/jpeg:https://nun-ostseebad-nienhagen.de/wp-content/uploads/2025/02/Apfelfest_2025_Apfelkiste-800x450-1.jpg
END:VEVENT
END:VCALENDAR